BEGIN:VCALENDAR
VERSION:2.0
PRODID:-//ChamberMaster//Event Calendar 2.0//EN
METHOD:PUBLISH
X-PUBLISHED-TTL:P3D
REFRESH-INTERVAL:P3D
CALSCALE:GREGORIAN
BEGIN:VEVENT
DTSTART:20180128T193000Z
DTEND:20180128T210000Z
X-MICROSOFT-CDO-ALLDAYEVENT:FALSE
SUMMARY:WinterFest 2018- Sunday Events
DESCRIPTION:Horse Drawn Wagon Rides FREE! 1:30-3:30 p.m. Cummings Lodge\n\nJingle\, jingle\, jingle. Take a brisk ride through the beauty of wintry nature while enjoying the majesty of the equine. After a trot through Soldiers Memorial Park\, warm up with a cup of hot chocolate by the fireplace.\n\nWheel Throwing Pottery Demonstration FREE! 2 p.m.-3 p.m. Civic Auditorium Lower Level (use Plain Street ramp)\n\nThe art of wheel throwing is both a therapeutic and expressive way to create pottery. Join Alayna Bublitz\, a local artist who teaches the La Porte Park and Recreation Department's pottery classes\, while she demonstrates her talent and answers questions from those in attendance. Individuals will have the opportunity to sit at a wheel and get their hands dirty! Maybe you will hear 'Unchained Melody' playing in the background!
X-ALT-DESC;FMTTYPE=text/html:Horse Drawn Wagon Rides FREE! 1:30-3:30 p.m. Cummings Lodge<br />\nJingle\, jingle\, jingle. Take a brisk ride through the beauty of wintry nature while enjoying the majesty of the equine. After a trot through Soldiers Memorial Park\, warm up with a cup of hot chocolate by the fireplace.<br />\nWheel Throwing Pottery Demonstration FREE! 2 p.m.-3 p.m. Civic Auditorium&mdash\;Lower Level (use Plain Street ramp)<br />\nThe art of wheel throwing is both a therapeutic and expressive way to create pottery. Join Alayna Bublitz\, a local artist who teaches the La Porte Park and Recreation Department&rsquo\;s pottery classes\, while she demonstrates her talent and answers questions from those in attendance. Individuals will have the opportunity to sit at a wheel and get their hands dirty! Maybe you will hear &lsquo\;Unchained Melody&rsquo\; playing in the background!
LOCATION:Throughout La Porte
UID:e.1949.3031
SEQUENCE:3
DTSTAMP:20260424T192102Z
URL:https://members.laportepartnership.com/events/details/winterfest-2018-sunday-events-3031
END:VEVENT

END:VCALENDAR
