BEGIN:VCALENDAR
VERSION:2.0
PRODID:-//ChamberMaster//Event Calendar 2.0//EN
METHOD:PUBLISH
X-PUBLISHED-TTL:P3D
REFRESH-INTERVAL:P3D
CALSCALE:GREGORIAN
BEGIN:VEVENT
DTSTART:20181113T173000Z
DTEND:20181113T190000Z
X-MICROSOFT-CDO-ALLDAYEVENT:FALSE
SUMMARY:Women in Leadership of La Porte County Annual Meeting
DESCRIPTION:Women in Leadership of La Porte County Annual Meeting\n\nCarrying Divine - My Rwanda Genocide Survival Story\n\nHenriette Nyirarukundo Ngena\, International Speaker and Author\n\n\n\nWome in Leadership of La Porte County has a remarkable speaker coming to share at their Annual Meeting. On November 13\, international speaker and author\, Henriette Nyirarukundo Ngenda will offer her personal story of survival during the Rwanda Genocide.\n\n\n\nNgenga not only survived\, but she is now thriving and empowering others to do so as well. The awe-inspiring story of this strong\, faith-filled woman is something you don't want to miss!
X-ALT-DESC;FMTTYPE=text/html:<p><span style="font-size:14px\;"><span style="font-family:arial\;">Women in Leadership of La Porte County Annual Meeting<br />\nCarrying Divine - My Rwanda Genocide Survival Story<br />\nHenriette Nyirarukundo Ngena\, International Speaker and Author<br />\n<br />\nWome in Leadership of La Porte County has a remarkable speaker coming to share at their Annual Meeting. On November 13\, international speaker and author\, Henriette Nyirarukundo Ngenda will offer her personal story of survival during the Rwanda Genocide.<br />\n<br />\nNgenga not only survived\, but she is now thriving and empowering others to do so as well. The awe-inspiring story of this strong\, faith-filled woman is something you don&#39\;t want to miss!</span></span><br />\n&nbsp\;</p>\n
LOCATION:Pottawattomie Park Country Club 1900 Springland Ave. Michigan City\, IN 46360
UID:e.1949.4265
SEQUENCE:3
DTSTAMP:20260424T005902Z
URL:https://members.laportepartnership.com/events/details/women-in-leadership-of-la-porte-county-annual-meeting-4265
END:VEVENT

END:VCALENDAR
