BEGIN:VCALENDAR
VERSION:2.0
PRODID:-//ChamberMaster//Event Calendar 2.0//EN
METHOD:PUBLISH
X-PUBLISHED-TTL:P3D
REFRESH-INTERVAL:P3D
CALSCALE:GREGORIAN
BEGIN:VEVENT
DTSTART:20160608T230000Z
DTEND:20160609T010000Z
X-MICROSOFT-CDO-ALLDAYEVENT:FALSE
SUMMARY:Women UNITED: Mix\, Mingle & Make An Impact Fundraising Event
DESCRIPTION:June 8\, 2016 at 6:00 PM CST\n\nShady Creek Winery\n2030 Tryon Road\, Michigan City\, IN 46360\n\n\n\n$30 per person - includes two glasses of wine and light snacks. Unique raffle items\, a brief and informative presentation about Women United\, and networking with others in our community will make this a memoriable night for everyone!\n\n\n\nYou'll learn more about "Getting Ahead Classes" where the "Bridges Out of Poverty" concepts are put into practice. In this program\, participants do some very deep self-exploration\, identify goals\, write their own future story\, learn about community resources\, and come to grips with the environmental\, circumstantial\, and psychological challenges they face.\n\n \n\nHelp us build ladders for people in LaPorte County to climb out of poverty on June 8th!
X-ALT-DESC;FMTTYPE=text/html:<h3><span style="color:black\;"><span style="font-family:arial\,sans-serif\;">June 8\, 2016 at 6:00 PM CST</span></span></h3>\n\n<h3><span style="color:black\;"><span style="font-family:arial\,sans-serif\;">Shady Creek Winery</span></span></h3>\n<span style="color:black\;"><span style="font-family:arial\,sans-serif\;"><span style="font-size:10.0pt\;">2030 Tryon Road\, Michigan City\, IN 46360<br />\n<br />\n<strong>$30 per person - includes two glasses of wine and light snacks.</strong> Unique raffle items\, a brief and informative presentation about Women United\, and networking with others in our community will make this a memoriable night for everyone!<br />\n<br />\nYou&#39\;ll learn more about &quot\;Getting Ahead Classes&quot\; where the &quot\;Bridges Out of Poverty&quot\; concepts are put into practice. In this program\, participants do some very deep self-exploration\, identify goals\, write their own future story\, learn about community resources\, and come to grips with the environmental\, circumstantial\, and psychological challenges they face.</span></span></span><br />\n&nbsp\;<br />\n<span style="color:black\;"><span style="font-family:arial\,sans-serif\;"><span style="font-size:10.0pt\;">Help us build ladders for people in LaPorte County to climb out of poverty on June 8th!</span></span></span>
LOCATION:Shady Creek Winery 2030 Tryon Road\, Michigan City\, IN 46360
UID:e.1949.2544
SEQUENCE:3
DTSTAMP:20260426T035830Z
URL:https://members.laportepartnership.com/events/details/women-united-mix-mingle-make-an-impact-fundraising-event-06-08-2016-2544
END:VEVENT

END:VCALENDAR
