BEGIN:VCALENDAR
VERSION:2.0
PRODID:-//ChamberMaster//Event Calendar 2.0//EN
METHOD:PUBLISH
X-PUBLISHED-TTL:P3D
REFRESH-INTERVAL:P3D
CALSCALE:GREGORIAN
BEGIN:VEVENT
DTSTART:20180925T124500Z
DTEND:20180925T213000Z
X-MICROSOFT-CDO-ALLDAYEVENT:FALSE
SUMMARY:Work Fierce: Taking it to the Next Level
DESCRIPTION:Northern Indiana Human Resource Management Association (NIHRMA)\n\nSeptember Conference\n\nWork Fierce: Taking it to the Next Level\n\n\n\nConference Topics\n\n\n	"Workforce in Indiana" - Blair Milo and Rebecca McCuaig\n	"Unconscious Bias" - LaJuana Warren\n	"HR Will Make or Break Your Company" - Carrie Van Daele\n	"Motionisms" - Chris Mahlmann\n	"Legal Update" - LaDue | Curran | Kuehn\n	"Conflict Resolution & Negotiation" - Dr. James B. Dworkin\n\nThank you to our Sponsors:\n\n\n	General Insurance Services\n	LaDue | Curran | Kuehn - Attorneys & Counselors at Law\n	Newby Lewis Kaminski Jones\, LLP\n	Franciscan Health\n	Greater La Porte Chamber of Commerce\n	WellPorte\n	JMJ Talents Solutions & Staffing\n	OMI Risk Partners
X-ALT-DESC;FMTTYPE=text/html:<p>Northern Indiana Human Resource Management Association (NIHRMA)<br />\nSeptember Conference<br />\nWork Fierce: Taking it to the Next Level<br />\n<br />\nConference Topics</p>\n\n<ul>\n	<li>&quot\;Workforce in Indiana&quot\; - Blair Milo and Rebecca McCuaig</li>\n	<li>&quot\;Unconscious Bias&quot\; - LaJuana Warren</li>\n	<li>&quot\;HR Will Make or Break Your Company&quot\; - Carrie Van Daele</li>\n	<li>&quot\;Motionisms&quot\; - Chris Mahlmann</li>\n	<li>&quot\;Legal Update&quot\; - LaDue | Curran | Kuehn</li>\n	<li>&quot\;Conflict Resolution &amp\; Negotiation&quot\; - Dr. James B. Dworkin</li>\n</ul>\nThank you to our Sponsors:\n\n<ul>\n	<li><a href="https://www.genins.com/">General Insurance Services</a></li>\n	<li><a href="https://lck-law.com/">LaDue | Curran | Kuehn - Attorneys &amp\; Counselors at Law</a></li>\n	<li><a href="http://www.nlkj.com/">Newby Lewis Kaminski Jones\, LLP</a></li>\n	<li><a href="https://www.franciscanhealth.org/">Franciscan Health</a></li>\n	<li><a href="https://www.lpchamber.com/">Greater La Porte Chamber of Commerce</a></li>\n	<li><a href="https://www.cityoflaporte.com/299/3127/WellPorte-Health">WellPorte</a></li>\n	<li><a href="http://www.jmjtalent.com/">JMJ Talents Solutions &amp\; Staffing</a></li>\n	<li><a href="https://www.onirisk.com/">OMI Risk Partners</a></li>\n</ul>\n
LOCATION:Purdue North West Dworkin Center 1401 W US 421 Westville\, IN 46391
UID:e.1949.4241
SEQUENCE:3
DTSTAMP:20260424T054731Z
URL:https://members.laportepartnership.com/events/details/work-fierce-taking-it-to-the-next-level-4241
END:VEVENT

END:VCALENDAR
