BEGIN:VCALENDAR
VERSION:2.0
PRODID:-//ChamberMaster//Event Calendar 2.0//EN
METHOD:PUBLISH
X-PUBLISHED-TTL:P3D
REFRESH-INTERVAL:P3D
CALSCALE:GREGORIAN
BEGIN:VEVENT
DTSTART:20161104T230000Z
DTEND:20161105T003000Z
X-MICROSOFT-CDO-ALLDAYEVENT:FALSE
SUMMARY:Works In Motion Dance Company celebrates 10 years of dance
DESCRIPTION:Join us for a open house and ice cream social Friday\, Nov. 4th 6:00 - 7:30pm.  \n\nTake a studio tour\, visit with instructors and sign up for classes.  \n\nContinue the celebration the following week - Bring a friend and/or take free unlimited classes November 7 - 11\, 2016.  \n\nWIMDC offers classes in ballet\, pointe\, tap\, jazz\, lyrical\, contemporary\, hip hop\, tumbling\, musical theater/Rockette\,  and dance fitness classes for ages 3 - adult.  Come join the fun!  Works In Motion is located at 1227 N. St. Rd. 39 La Porte\, IN 46350.  219-324-7600.
X-ALT-DESC;FMTTYPE=text/html:<span style="color:black\;"><span style="font-family:arial\,sans-serif\;"><span style="font-size:10.0pt\;">Join us for a open house and ice cream social Friday\, Nov. 4th 6:00 - 7:30pm.&nbsp\; </span></span></span><br />\n<span style="color:black\;"><span style="font-family:arial\,sans-serif\;"><span style="font-size:10.0pt\;">Take a studio tour\, visit with instructors and sign up for classes.&nbsp\; </span></span></span><br />\n<span style="color:black\;"><span style="font-family:arial\,sans-serif\;"><span style="font-size:10.0pt\;">Continue the celebration the following week - Bring a friend and/or take free unlimited classes November 7 - 11\, 2016.&nbsp\; </span></span></span><br />\n<span style="color:black\;"><span style="font-family:arial\,sans-serif\;"><span style="font-size:10.0pt\;">WIMDC offers classes in ballet\, pointe\,&nbsp\;tap\, jazz\, lyrical\, contemporary\, hip hop\, tumbling\, musical theater/Rockette\, &nbsp\;and dance fitness classes for ages 3 - adult.&nbsp\; Come join the fun!&nbsp\; Works In Motion is located at 1227 N. St. Rd. 39 La Porte\, IN 46350.&nbsp\; 219-324-7600.&nbsp\;</span></span></span>
LOCATION:Works in Motion Dance Company 1227 N. State Road 39 La Porte
UID:e.1949.2666
SEQUENCE:3
DTSTAMP:20260425T204427Z
URL:https://members.laportepartnership.com/events/details/works-in-motion-dance-company-celebrates-10-years-of-dance-2666
END:VEVENT

END:VCALENDAR
