BEGIN:VCALENDAR
VERSION:2.0
PRODID:-//ChamberMaster//Event Calendar 2.0//EN
METHOD:PUBLISH
X-PUBLISHED-TTL:P3D
REFRESH-INTERVAL:P3D
CALSCALE:GREGORIAN
BEGIN:VEVENT
DTSTART:20180627T140000Z
DTEND:20180627T150000Z
X-MICROSOFT-CDO-ALLDAYEVENT:FALSE
SUMMARY:Workshop: Social Media -- Should I Tweet\, Post or Blog?
DESCRIPTION:Please join us as Barbara Caine from Fuse Business Training teaches you which social media platform is right for your business:\n\n	9:00am Presentation\n	10:00am Q&A and Networking\n	There is no cost for the workshop.  \n	Coffee will be served.  \n	Attendees receive a copy of the slide presentation.  \n\nLimited seating is available and registrations are required.  Just click on the link below to register
X-ALT-DESC;FMTTYPE=text/html:<span style="font-family:arial\,sans-serif\;"><span style="font-size:10pt\;">Please join us as Barbara Caine from Fuse Business Training&nbsp\;teaches you which social media platform is right for your business:</span></span>\n<ul>\n	<li style="background-image:initial\;background-position:initial\;background-size:initial\;background-repeat:initial\;background-attachment:initial\;background-origin:initial\;background-clip:initial\;"><span style="font-family:arial\,sans-serif\;"><span style="font-size:10.0pt\;">9:00am Presentation</span></span></li>\n	<li style="background-image:initial\;background-position:initial\;background-size:initial\;background-repeat:initial\;background-attachment:initial\;background-origin:initial\;background-clip:initial\;"><span style="font-family:arial\,sans-serif\;"><span style="font-size:10.0pt\;">10:00am Q&amp\;A and Networking</span></span></li>\n	<li style="background-image:initial\;background-position:initial\;background-size:initial\;background-repeat:initial\;background-attachment:initial\;background-origin:initial\;background-clip:initial\;"><span style="font-family:arial\,sans-serif\;"><span style="font-size:10.0pt\;">There is no cost for the workshop. &nbsp\;</span></span></li>\n	<li style="background-image:initial\;background-position:initial\;background-size:initial\;background-repeat:initial\;background-attachment:initial\;background-origin:initial\;background-clip:initial\;"><span style="font-family:arial\,sans-serif\;"><span style="font-size:10.0pt\;">Coffee will be served.&nbsp\;&nbsp\;</span></span></li>\n	<li style="background-image:initial\;background-position:initial\;background-size:initial\;background-repeat:initial\;background-attachment:initial\;background-origin:initial\;background-clip:initial\;"><span style="font-family:arial\,sans-serif\;"><span style="font-size:10.0pt\;">Attendees receive a copy of the slide presentation.&nbsp\;&nbsp\;</span></span></li>\n</ul>\n<span style="font-family:arial\,sans-serif\;"><span style="font-size:10pt\;">Limited seating is available and registrations are required.&nbsp\; Just click on the link below to register</span></span>
LOCATION:June 27 9:00 AM to 10:00 AM
UID:e.1949.4174
SEQUENCE:3
DTSTAMP:20260424T084651Z
URL:https://members.laportepartnership.com/events/details/workshop-social-media-should-i-tweet-post-or-blog-4174
END:VEVENT

END:VCALENDAR
