BEGIN:VCALENDAR
VERSION:2.0
PRODID:-//ChamberMaster//Event Calendar 2.0//EN
METHOD:PUBLISH
X-PUBLISHED-TTL:P3D
REFRESH-INTERVAL:P3D
CALSCALE:GREGORIAN
BEGIN:VEVENT
DTSTART:20180119T143000Z
DTEND:20180119T160000Z
X-MICROSOFT-CDO-ALLDAYEVENT:FALSE
SUMMARY:Workshop with Secretary of Career Connections & Talent Blair Milo
DESCRIPTION:As a community leader\, Secretary Milo would like you to attend the workshop which will be held at the Civic Auditorium on Friday\, January 19\, 2018 at 8:30 am (Central) to discuss:\n\n \n\n	Current job vacancies\, future job demand and county demographics\n	Identify the state\, regional\, and local assets to assist with improving career connections and closing current gaps.\n	Identify what is working well and what changes could or should be pursued to inform a regionally\, or locally driven talent pipeline\n\n \n\nOver the next ten years\, there will be an estimated one million job openings in the State of Indiana. With your input\, Secretary Milo hopes to address these needs in her role as the state's Chief Talent Officer. These informational forums and direct conversations are crucial for our local employers and our communities\, and solutions must involve our schools\, elected officials\, and our civic leaders.\n\n \n\nWorkshop Details:\n\n \n\nCivic Auditorium\, Lower Level Meeting Room\n\n1001 Ridge Street\n\nLa Porte\, IN 46350\n\nFriday\, January 19\, 2018\n\n8:30 am Central\n\n \n\nTo RSVP:  Click the link HERE via Eventbrite to register.
X-ALT-DESC;FMTTYPE=text/html:<span style="font-family:arial\,sans-serif\;">As a community leader\, Secretary Milo would like you to attend the workshop which will be held at the Civic Auditorium on <strong>Friday\, January 19\, 2018 at 8:30 am</strong> (Central) to discuss:</span><br />\n&nbsp\;\n<ul>\n	<li><span style="font-family:arial\,sans-serif\;">Current job vacancies\, future job demand and county demographics</span></li>\n	<li><span style="font-family:arial\,sans-serif\;">Identify the state\, regional\, and local assets to assist with improving career connections and closing current gaps.</span></li>\n	<li><span style="font-family:arial\,sans-serif\;">Identify what is working well and what changes could or should be pursued to inform a regionally\, or locally driven talent pipeline</span></li>\n</ul>\n&nbsp\;<br />\n<span style="font-family:arial\,sans-serif\;">Over the next ten years\, there will be an estimated one million job openings in the State of Indiana.&nbsp\;With your input\, Secretary Milo hopes to address these needs in her role as the state&rsquo\;s Chief Talent Officer.&nbsp\;These informational forums and direct conversations are crucial for our local employers and our communities\, and solutions must involve our schools\, elected officials\, and our civic leaders.</span><br />\n&nbsp\;<br />\n<span style="font-family:arial\,sans-serif\;">Workshop Details:</span><br />\n&nbsp\;<br />\n<span style="font-family:arial\,sans-serif\;">Civic Auditorium\, Lower Level Meeting Room</span><br />\n<span style="font-family:arial\,sans-serif\;">1001 Ridge Street</span><br />\n<span style="font-family:arial\,sans-serif\;">La Porte\, IN 46350</span><br />\n<strong><span style="font-family:arial\,sans-serif\;">Friday\, January 19\, 2018</span></strong><br />\n<strong><span style="font-family:arial\,sans-serif\;">8:30 am Central</span></strong><br />\n&nbsp\;<br />\n<span style="font-family:arial\,sans-serif\;">To RSVP:&nbsp\; Click the link <a href="https://www.eventbrite.com/e/laporte-county-meeting-with-secretary-blair-milo-tickets-41828702776">HERE</a> via Eventbrite to register.</span>
LOCATION:La Port Civic Auditorium 1001 Ridge Street\, La Porte
UID:e.1949.3016
SEQUENCE:3
DTSTAMP:20260424T174716Z
URL:https://members.laportepartnership.com/events/details/workshop-with-secretary-of-career-connections-talent-blair-milo-3016
END:VEVENT

END:VCALENDAR
