BEGIN:VCALENDAR
VERSION:2.0
PRODID:-//ChamberMaster//Event Calendar 2.0//EN
METHOD:PUBLISH
X-PUBLISHED-TTL:P3D
REFRESH-INTERVAL:P3D
CALSCALE:GREGORIAN
BEGIN:VEVENT
DTSTART:20180417T210000Z
DTEND:20180418T003000Z
X-MICROSOFT-CDO-ALLDAYEVENT:FALSE
SUMMARY:World Creativity & Innovation Week- Celebration at La Porte County Public Library
DESCRIPTION:The La Porte County Public Library will celebrate World Creativity & Innovation Week on Tuesday\, April 17 from 4:00pm   7:30pm in Spark Labs at the Main Library\, with support from the YALSA grant awarded to the library\, by having adult and teen volunteers work side by side to lend a hand and make a difference assembling 3D printed parts into prosthetic hands. All assembled hands will be donated to enablingthefuture.org.\n\nWe welcome all ages to come and take part in this wonderful community event. Don't know about 3D printing? Want to learn more of what happens at Spark Labs? This is a great time to check it out.\n\nIf you are interested in 3D printing the parts at home with your own 3D printer prior to the event\, here are the instructions. https://drive.google.com/file/d/1CA-VQoYm09ixjvxi5Nya2Dy5vAmDPMyZ/view?usp=sharing\n\nFor more information on library services go to laportelibrary.org or call 219-362-6156. And\, as always\, follow our social media for up-to-date announcements and information.
X-ALT-DESC;FMTTYPE=text/html:The La Porte County Public Library will celebrate World Creativity &amp\; Innovation Week on Tuesday\, April 17 from 4:00pm &ndash\; 7:30pm in Spark Labs at the Main Library\, with support from the YALSA grant awarded to the library\, by having adult and teen volunteers work side by side to lend a hand and make a difference assembling 3D printed parts into prosthetic hands. All assembled hands will be donated to enablingthefuture.org.<br />\nWe welcome all ages to come and take part in this wonderful community event. Don&rsquo\;t know about 3D printing? Want to learn more of what happens at Spark Labs? This is a great time to check it out.<br />\nIf you are interested in 3D printing the parts at home with your own 3D printer prior to the event\, here are the instructions. https://drive.google.com/file/d/1CA-VQoYm09ixjvxi5Nya2Dy5vAmDPMyZ/view?usp=sharing<br />\nFor more information on library services go to laportelibrary.org or call 219-362-6156. And\, as always\, follow our social media for up-to-date announcements and information.
LOCATION:Spark Labs\, Main Library 904 Indiana Avenue La Porte
UID:e.1949.4104
SEQUENCE:3
DTSTAMP:20260424T115719Z
URL:https://members.laportepartnership.com/events/details/world-creativity-innovation-week-celebration-at-la-porte-county-public-library-4104
END:VEVENT

END:VCALENDAR
