BEGIN:VCALENDAR
VERSION:2.0
PRODID:-//ChamberMaster//Event Calendar 2.0//EN
METHOD:PUBLISH
X-PUBLISHED-TTL:P3D
REFRESH-INTERVAL:P3D
CALSCALE:GREGORIAN
BEGIN:VEVENT
DTSTART:20180621T133000Z
DTEND:20180621T170000Z
X-MICROSOFT-CDO-ALLDAYEVENT:FALSE
SUMMARY:World's Largest Swim Lesson!
DESCRIPTION:It's time for the Y's most splashtastic event of the year! Join us\, along with kids and parents at aquatic facilities across the country and around the globe\, as we come together over 24 hours for the largest swimming lesson ever conducted. Our goal is to help spread the word that "swimming lessons save lives." \n\n \n\nThis event is fun\, free and open to the public! All attendees must have signed waivers prior to participating. Children under 18 must have waivers signed by a parent or guardian\, which may be completed in advance of the event. Questions? Please contact Michelle Shirk at mshirk@lpymca.org.
X-ALT-DESC;FMTTYPE=text/html:<span style="background-image:initial\;background-position:initial\;background-size:initial\;background-repeat:initial\;background-attachment:initial\;background-origin:initial\;background-clip:initial\;"><span style="color:#1d2129\;">It&#39\;s time for the Y&#39\;s most splashtastic event of the year! Join us\, along with kids and parents at aquatic facilities across the country and around the globe\, as we come together over 24 hours for the largest swimming lesson ever conducted.&nbsp\;</span></span>Our goal is to help spread the word that &quot\;swimming lessons save lives.&quot\;&nbsp\;<br />\n&nbsp\;<br />\n<span style="color:#1D2129\;"><span style="font-family:times new roman\,serif\;"><span style="font-size:12.0pt\;">This event is fun\, free and open to the public! All attendees must have signed waivers prior to participating. Children under 18 must have waivers signed by a parent or guardian\, which may be completed in advance of the event. Questions? Please contact Michelle Shirk at <a href="mailto:mshirk@lpymca.org">mshirk@lpymca.org</a>.</span></span></span>
LOCATION:La Porte County Family YMCA La Porte and Michigan City Elston Branches
UID:e.1949.4188
SEQUENCE:3
DTSTAMP:20260424T084542Z
URL:https://members.laportepartnership.com/events/details/world-s-largest-swim-lesson-4188
END:VEVENT

END:VCALENDAR
