BEGIN:VCALENDAR
VERSION:2.0
PRODID:-//ChamberMaster//Event Calendar 2.0//EN
METHOD:PUBLISH
X-PUBLISHED-TTL:P3D
REFRESH-INTERVAL:P3D
CALSCALE:GREGORIAN
BEGIN:VEVENT
DTSTART:20160601T220000Z
DTEND:20160601T230000Z
X-MICROSOFT-CDO-ALLDAYEVENT:FALSE
SUMMARY:Worthy Women Recovery Home Ribbon Cutting
DESCRIPTION:Join Worthy Women Recovery Home for a ribbon cutting on Wednesday\, June 1st at 5:15 p.m. The event will take place at 1001 Maple Avenue in La Porte and will be administered by the Greater La Porte Chamber of Commerce.\n\n\n\nWorthy Women Recovery Home is a Christian home that provides recently incarcerated women with re-entry programs and the tools necessary to reduce recidivism rates\, substance abuse and addictions\, and to positively empower them to live as positive role models for their children and in their community. The non-profit purchased their building debt-free on September 7\, 2011 in La Porte\, IN- almost 4800 square feet of space. The Worthy Women Recovery Home will offer an oasis in the form of a safe and sober residential living environment\, giving the ladies hope for a future while teaching them to use the tools needed to become self-sufficient\, positive\, value driven members of society. Fostering appropriate interaction with their children and families will be their main focus. Promoting other appropriate\, healthy and positive relationships will also be a foundational part of their learning.\n\n\n\nFor more information about Worthy Women Recovery Home\, visit www.worthyrecovery.org.
X-ALT-DESC;FMTTYPE=text/html:<span style="color:black\;"><span style="font-family:arial\,sans-serif\;"><span style="font-size:10.0pt\;">Join <strong>Worthy Women Recovery Home </strong>for a ribbon cutting on Wednesday\, June 1st at 5:15 p.m. The event will take place at 1001 Maple Avenue in La Porte and will be administered by the Greater La Porte Chamber of Commerce.</span></span></span><br />\n<br />\n<span style="color:black\;"><span style="font-family:arial\,sans-serif\;"><span style="font-size:10.0pt\;">Worthy Women Recovery Home is a Christian home that provides recently incarcerated women with re-entry programs and the tools necessary to reduce recidivism rates\, substance abuse and addictions\, and to positively empower them to live as positive role models for their children and in their community. The non-profit purchased their building debt-free on September 7\, 2011 in La Porte\, IN- almost 4800 square feet of space. The Worthy Women Recovery Home will offer an oasis in the form of a safe and sober residential living environment\, giving the ladies hope for a future while teaching them to use the tools needed to become self-sufficient\, positive\, value driven members of society. Fostering appropriate interaction with their children and families will be their main focus. Promoting other appropriate\, healthy and positive relationships will also be a foundational part of their learning.</span></span></span><br />\n<br />\n<span style="color:black\;"><span style="font-family:arial\,sans-serif\;"><span style="font-size:10.0pt\;">For more information about Worthy Women Recovery Home\, visit www.worthyrecovery.org.</span></span></span>
LOCATION:Worthy Women Recovery Home 1001 Maple Avenue La Porte
UID:e.1949.2551
SEQUENCE:3
DTSTAMP:20260426T035108Z
URL:https://members.laportepartnership.com/events/details/worthy-women-recovery-home-ribbon-cutting-06-01-2016-2551
END:VEVENT

END:VCALENDAR
