BEGIN:VCALENDAR
VERSION:2.0
PRODID:-//ChamberMaster//Event Calendar 2.0//EN
METHOD:PUBLISH
X-PUBLISHED-TTL:P3D
REFRESH-INTERVAL:P3D
CALSCALE:GREGORIAN
BEGIN:VEVENT
DTSTART:20170314T220000Z
DTEND:20170315T000000Z
X-MICROSOFT-CDO-ALLDAYEVENT:FALSE
SUMMARY:YMCA Preschool Open House
DESCRIPTION:Enrollment is now open for the La Porte County Family YMCA's 2017-2018 early childhood education programs! On Tuesday\, March 14th\, from 5:00 p.m. to 7:00 p.m.\, area families are invited to attend open houses at two different preschool locations.
X-ALT-DESC;FMTTYPE=text/html:Enrollment is now open for the La Porte County Family YMCA&rsquo\;s 2017-2018 early childhood education programs! On Tuesday\, March 14th\, from 5:00 p.m. to 7:00 p.m.\, area families are invited to attend open houses at two different preschool locations.
LOCATION:La Porte Branch Preschool 901 Michigan Avenue La Porte\, IN 463590 Prairie View Elementary School 6434 East 700 North Rolling Prairie\, IN 46371
UID:e.1949.2745
SEQUENCE:3
DTSTAMP:20260425T114402Z
URL:https://members.laportepartnership.com/events/details/ymca-preschool-open-house-2745
END:VEVENT

END:VCALENDAR
