BEGIN:VCALENDAR
VERSION:2.0
PRODID:-//ChamberMaster//Event Calendar 2.0//EN
METHOD:PUBLISH
X-PUBLISHED-TTL:P3D
REFRESH-INTERVAL:P3D
CALSCALE:GREGORIAN
BEGIN:VEVENT
DTSTART:20180822T170000Z
DTEND:20180822T170000Z
X-MICROSOFT-CDO-ALLDAYEVENT:FALSE
SUMMARY:Yoga for everyBody!
DESCRIPTION:Clark's Family Chiropractic is excited to host Yoga Under the Sun with Chayse. This is a beginner yoga class great for those just wanting to try yoga or for those that want to relax into some poses under the wonderful sun. Class will be outside\, please bring a mat\, limited mats available. RSVP by Aug 17
X-ALT-DESC;FMTTYPE=text/html:Clark&#39\;s Family Chiropractic is excited to host Yoga Under the Sun with Chayse. This is a beginner yoga class great for those just wanting to try yoga or for those that want to relax into some poses under the wonderful sun. Class will be outside\, please bring a mat\, limited mats available. RSVP by Aug 17
LOCATION:6646 W. Johnson Rd La Porte
UID:e.1949.4236
SEQUENCE:3
DTSTAMP:20260424T071739Z
URL:https://members.laportepartnership.com/events/details/yoga-for-everybody-08-22-2018-4236
END:VEVENT

END:VCALENDAR
