BEGIN:VCALENDAR
VERSION:2.0
PRODID:-//ChamberMaster//Event Calendar 2.0//EN
METHOD:PUBLISH
X-PUBLISHED-TTL:P3D
REFRESH-INTERVAL:P3D
CALSCALE:GREGORIAN
BEGIN:VEVENT
DTSTART:20180822T123000Z
DTEND:20180822T133000Z
X-MICROSOFT-CDO-ALLDAYEVENT:FALSE
SUMMARY:Yoga for everyBody!
DESCRIPTION:Please join us for a morning of Yoga under the Sun. Clark's Family Chiropractic is excited to start hosting Yoga with our amazing and professional Yoga instructor\, Chayse. This first class starts with a refreshing meditation to center then move into a gentle yoga sequence to awaken our bodies. This is a beginner class open to everyone. We will be doing this class outside so bring your mat and dress comfortably. Please RSVP by Aug 17.
X-ALT-DESC;FMTTYPE=text/html:Please join us for a morning of Yoga under the Sun. Clark&#39\;s Family Chiropractic is excited to start hosting Yoga with our amazing and professional Yoga instructor\, Chayse. This first class starts with a refreshing meditation to center then move into a gentle yoga sequence to awaken our bodies. This is a beginner class open to everyone. We will be doing this class outside so bring your mat and dress comfortably. Please RSVP by Aug 17.
LOCATION:6646 W. Johnson Rd La Porte\, IN 46350
UID:e.1949.4228
SEQUENCE:3
DTSTAMP:20260424T070015Z
URL:https://members.laportepartnership.com/events/details/yoga-for-everybody-4228
END:VEVENT

END:VCALENDAR
