BEGIN:VCALENDAR
VERSION:2.0
PRODID:-//ChamberMaster//Event Calendar 2.0//EN
METHOD:PUBLISH
X-PUBLISHED-TTL:P3D
REFRESH-INTERVAL:P3D
CALSCALE:GREGORIAN
BEGIN:VEVENT
DTSTART:20180912T123000Z
DTEND:20181010T133000Z
X-MICROSOFT-CDO-ALLDAYEVENT:FALSE
SUMMARY:Yoga Under the Sun
DESCRIPTION:Looking for a great relaxation Yoga class? Sign up for Yoga Under the Sun 5 class series. Starting Wed. Sept 12 at 7:30 - 8:30 am with the last class being Wed. Oct. 10.(weather permitting\, make up classes on additional Wednesdays) Sign up for all 5 classes before 9/12/18 and pay only $65.00 for the entire series. Individual classes and drop in price is $15.00 each. Call 219-879-5437 to register and pay.
X-ALT-DESC;FMTTYPE=text/html:Looking for a great relaxation Yoga class? Sign up for Yoga Under the Sun 5 class series. Starting Wed. Sept 12 at 7:30 - 8:30 am with the last class being Wed. Oct. 10.(weather permitting\, make up classes on additional Wednesdays) Sign up for all 5 classes before 9/12/18 and pay only $65.00 for the entire series. Individual classes and drop in price is $15.00 each. Call 219-879-5437 to register and pay.
LOCATION:Clark's Family Chiropractic 6646 W. Johnson Rd La Porte\, IN 46350
UID:e.1949.4242
SEQUENCE:3
DTSTAMP:20260424T040751Z
URL:https://members.laportepartnership.com/events/details/yoga-under-the-sun-4242
END:VEVENT

END:VCALENDAR
