BEGIN:VCALENDAR
VERSION:2.0
PRODID:-//ChamberMaster//Event Calendar 2.0//EN
METHOD:PUBLISH
X-PUBLISHED-TTL:P3D
REFRESH-INTERVAL:P3D
CALSCALE:GREGORIAN
BEGIN:VEVENT
DTSTART:20170201T230000Z
DTEND:20170202T000000Z
X-MICROSOFT-CDO-ALLDAYEVENT:FALSE
SUMMARY:You-nique Bou-tique Business after Hours & Open House
DESCRIPTION:Join the Downtown La Porte business You-nique Bou-tique for a Business after Hours on Wednesday\, February 1st at 5:00 p.m. This chic boutique with a vintage flair\, located at 800 Michigan Avenue in La Porte\, will help you prepare for Valentine's Day- with either a great new outfit for the ladies or a thoughtful gift for men to give their lady.\n\n\n\nYou-nique Bou-tique\, affectionately called "You Bou" by regular clients\, opened their new La Porte location in mid-May of 2016. The boutique offers brand-new fashions and eclectic jewelry for ladies who love to dress and feel unique. Shoes\, hosiery\, and handbags were also added last year in their own section of the store referred to as "Shu Bou." Chrissy Berry\, Fashion Stylist\, commented "Our style is vintage-inspired\; ruffles\, layers\, lace and crochet\; very feminine and extremely pretty. I love to help our customers pull together a special outfit or suggest an embellished top that works well with a beloved skirt for a fresh new look!"\n\n\n\nFor more information about You-nique Bou-tique\, visit their Facebook page\, www.facebook.com/YouBou.Biz or call 219.379.7777. Registration is encouraged for this event. You may register by calling the Chamber at 219.362.3178 or clicking the register link above.
X-ALT-DESC;FMTTYPE=text/html:<span style="font-family:georgia\,serif\;"><span style="font-size:12.0pt\;">Join the Downtown La Porte business You-nique Bou-tique for a Business after Hours on Wednesday\, February 1st at 5:00 p.m. This chic boutique with a vintage flair\, located at 800 Michigan Avenue in La Porte\, will help you prepare for Valentine&rsquo\;s Day- with either a great new outfit for the ladies or a thoughtful gift for men to give their lady.</span></span><br />\n<br />\n<span style="font-family:georgia\,serif\;"><span style="font-size:12.0pt\;">You-nique Bou-tique\, affectionately called &ldquo\;You Bou&rdquo\; by regular clients\, opened their new La Porte location in mid-May of 2016. The boutique offers brand-new fashions and eclectic jewelry for ladies who love to dress and feel unique. Shoes\, hosiery\, and handbags were also added last year in their own section of the store referred to as &ldquo\;Shu Bou.&rdquo\; Chrissy Berry\, Fashion Stylist\, commented &quot\;Our style is vintage-inspired\; ruffles\, layers\, lace and crochet\; very feminine and extremely pretty. I love to help our customers pull together a special outfit or suggest an embellished top that works well with a beloved skirt for a fresh new look!&quot\;</span></span><br />\n<br />\n<span style="font-family:georgia\,serif\;"><span style="font-size:12.0pt\;">For more information about You-nique Bou-tique\, visit their Facebook page\, www.facebook.com/YouBou.Biz or call 219.379.7777. Registration is encouraged for this event. You may register by calling the Chamber at 219.362.3178 or clicking the register link above.</span></span>
LOCATION:You-nique Bou-tique 800 Michigan Avenue\, La Porte
UID:e.1949.2699
SEQUENCE:3
DTSTAMP:20260425T133745Z
URL:https://members.laportepartnership.com/events/details/you-nique-bou-tique-business-after-hours-open-house-2699
END:VEVENT

END:VCALENDAR
