BEGIN:VCALENDAR
VERSION:2.0
PRODID:-//ChamberMaster//Event Calendar 2.0//EN
METHOD:PUBLISH
X-PUBLISHED-TTL:P3D
REFRESH-INTERVAL:P3D
CALSCALE:GREGORIAN
BEGIN:VEVENT
DTSTART:20160610T180000Z
DTEND:20160610T183000Z
X-MICROSOFT-CDO-ALLDAYEVENT:FALSE
SUMMARY:You-nique Bou-tique Ribbon Cutting
DESCRIPTION:At the corner of Michigan and Jefferson Avenue you may have noticed a few well-dressed women gracing the windows of the Historic Rumely\, with a nod to Downton Abbey and Mr. Selfridge.... La Porte's newest addition\; You-nique Bou-tique stirs echoes of a bye-gone era with brand new fashions and trends.\n\n\n\nYou-nique Bou-tique\; a chic boutique with a vintage flair\; opened (softly) mid-April to a collection of unsuspecting customers who happened by City Hall\, the YMCA\, PNC and Temple News\, discovering the hidden door to 800 Michigan Avenue Suite #10. "We're still hanging new inventory and styling our displays" says Julie Berry\, business owner and buyer\, "but so many people were popping by and trying to get in\, we decided to open before our Official Grand Opening!"\n\n\n\nAffectionately called "You Bou" by regular clients who visit Berry's additional locations in Shipshewana\, IN and Mesa\, AZ\, she offers brand-new fashions and eclectic jewelry for ladies who love to dress and feel unique. "Our style is vintage-inspired" comments Fashion Stylist\, Chrissy Berry\, "ruffles\, layers\, lace and crochet\; very feminine and extremely pretty. I love to help our customers pull together a special outfit or suggest an embellished top that works well with a beloved skirt for a fresh new look!"\n\n\n\nWhy La Porte? Berry says\, "I lived on Pine Lake North for 13-years and have always felt a connection with this small town with a big heart\, we hope the community will embrace so we can be a stable\, long-term option for fashionable ladies!"\n\n\n\nWith a bit of room to grow\, You Bou showcases several girlfriend/daughter gift lines and will soon launch Shu Bou\, s separate salon highlighting the newest in shoes\, sandals\, boots and handbags. And then there's Beau Bou\, a selection of male-centric gifts\; for a little something to take home for your beau.\n\n\n\nRegular Business Hours:\n\nTuesday\, Wednesday\, Friday 10:00 a.m.-5:00 p.m.\n\nThursday\, 11:00 a.m.-7:00 p.m.\n\nSaturday\, 10:00 a.m.-4:00 p.m.\n\nSunday & Monday-closed (or by chance/appointment)\n\n\n\nThe Greater La Porte Chamber of Commerce will administer the official ribbon-cutting ceremony at 800 Michigan Avenue in downtown La Porte at 1:00 p.m. on Friday\, June 10th\, 2016. You Bou will host their Grand Open House\, Friday after the ceremony and Saturday from 10:00 to 4:00 p.m. where everyone is welcome for punch and cookies.
X-ALT-DESC;FMTTYPE=text/html:<div class="mn-module-content" id="mn-news-details" style="border: none\; border-image-source: none\; border-image-slice: 100% 1 0\; border-image-repeat: stretch\; font-variant: inherit\; font-stretch: inherit\; font-style: inherit\; font-weight: inherit\; margin: 0px 0px 30px\; outline: invert none medium\; padding: 0px\; vertical-align: baseline\; bottom: auto\; box-sizing: content-box\; clear: none\; content: normal\; direction: inherit\; empty-cells: show\; left: auto\; letter-spacing: inherit\; max-height: none\; max-width: none\; min-height: initial\; min-width: initial\; opacity: 1\; outline-offset: 0px\; overflow: visible\; position: static\; resize: none\; right: auto\; table-layout: auto\; text-align: inherit\; text-indent: inherit\; text-overflow: clip\; text-transform: inherit\; top: auto\; visibility: inherit\; white-space: inherit\; word-break: inherit\; word-spacing: inherit\; word-wrap: inherit\; z-index: auto\; border-collapse: separate\; border-radius: 0px\; height: auto\; width: 1000px\; box-shadow: none\; background: none\;">\n<div class="mn-section" id="mn-news-details-body" style="border: none\; border-image-width: initial\; border-image-outset: initial\; border-image-source: none\; border-image-slice: 100% 1 0\; border-image-repeat: stretch\; font-variant: inherit\; font-stretch: inherit\; font-style: inherit\; font-weight: inherit\; margin: 0px\; outline: invert none medium\; padding: 0px\; vertical-align: baseline\; bottom: auto\; box-sizing: content-box\; clear: both\; content: normal\; direction: inherit\; empty-cells: show\; left: auto\; letter-spacing: inherit\; max-height: none\; max-width: none\; min-height: initial\; min-width: initial\; opacity: 1\; outline-offset: 0px\; overflow: visible\; position: relative\; resize: none\; right: auto\; table-layout: auto\; text-align: inherit\; text-indent: inherit\; text-overflow: clip\; text-transform: inherit\; top: auto\; visibility: inherit\; white-space: inherit\; word-break: inherit\; word-spacing: inherit\; word-wrap: inherit\; z-index: auto\; border-collapse: separate\; border-radius: 0px\; height: auto\; width: auto\; box-shadow: none\; background-image: none\; background-attachment: initial\; background-color: initial\; background-size: initial\; background-origin: initial\; background-clip: initial\; background-position: initial\; background-repeat: initial\;">\n<div class="mn-news-details-bodytext mn-raw" style="border: none\; border-image-width: initial\; border-image-outset: initial\; border-image-source: none\; border-image-slice: 100% 1 0\; border-image-repeat: stretch\; font-variant: inherit\; font-stretch: inherit\; font-style: inherit\; font-weight: inherit\; margin: 0px\; outline: invert none medium\; padding: 0px\; vertical-align: baseline\; bottom: auto\; box-sizing: content-box\; clear: none\; content: normal\; direction: inherit\; empty-cells: show\; left: auto\; letter-spacing: inherit\; max-height: none\; max-width: none\; min-height: initial\; min-width: initial\; opacity: 1\; outline-offset: 0px\; overflow: visible\; position: static\; resize: none\; right: auto\; table-layout: auto\; text-align: inherit\; text-indent: inherit\; text-overflow: clip\; text-transform: inherit\; top: auto\; visibility: inherit\; white-space: inherit\; word-break: inherit\; word-spacing: inherit\; word-wrap: inherit\; z-index: auto\; border-collapse: separate\; border-radius: 0px\; height: auto\; width: auto\; box-shadow: none\; background-image: none\; background-attachment: initial\; background-color: initial\; background-size: initial\; background-origin: initial\; background-clip: initial\; background-position: initial\; background-repeat: initial\;"><font color="#000000" face="Arial\, Helvetica\, sans-serif"><span style="font-size: 16px\;">At the corner of Michigan and Jefferson Avenue you may have noticed a few well-dressed women gracing the windows of the Historic Rumely\, with a nod to Downton&nbsp\;Abbey and Mr. Selfridge.... La Porte&#39\;s newest addition\; You-nique Bou-tique stirs echoes of a bye-gone era with brand new fashions and trends.<br />\n<br />\nYou-nique Bou-tique\; a chic boutique with a vintage flair\; opened (softly) mid-April to a collection of unsuspecting customers who happened by City Hall\, the YMCA\, PNC and Temple News\, discovering the hidden door to 800 Michigan Avenue Suite #10. &quot\;We&#39\;re still hanging new inventory and styling our displays&quot\; says Julie Berry\, business owner and buyer\, &quot\;but so many people were popping by and trying to get in\, we decided to open before our Official Grand Opening!&quot\;<br />\n<br />\nAffectionately called &quot\;You Bou&quot\; by regular clients who visit Berry&#39\;s additional locations in Shipshewana\, IN and Mesa\, AZ\, she offers brand-new fashions and eclectic jewelry for ladies who love to dress and feel unique. &quot\;Our style is vintage-inspired&quot\; comments Fashion Stylist\, Chrissy Berry\, &quot\;ruffles\, layers\, lace and crochet\; very feminine and extremely pretty. I love to help our customers pull together a special outfit or suggest an embellished top that works well with a beloved skirt for a fresh new look!&quot\;<br />\n<br />\nWhy La Porte? Berry says\, &quot\;I lived on Pine Lake North for 13-years and have always felt a connection with this small town with a big heart\, we hope the community will embrace so we can be a stable\, long-term option for fashionable ladies!&quot\;<br />\n<br />\nWith a bit of room to grow\, You Bou showcases several girlfriend/daughter gift lines and will soon launch Shu Bou\, s separate salon highlighting the newest in shoes\, sandals\, boots and handbags. And then there&#39\;s Beau Bou\, a selection of male-centric gifts\; for a little something to take home for your beau.<br />\n<br />\nRegular Business Hours:<br />\nTuesday\, Wednesday\, Friday 10:00 a.m.-5:00 p.m.<br />\nThursday\, 11:00 a.m.-7:00 p.m.<br />\nSaturday\, 10:00 a.m.-4:00 p.m.<br />\nSunday &amp\; Monday-closed (or by chance/appointment)<br />\n<br />\nThe Greater La Porte Chamber of Commerce will administer the official ribbon-cutting ceremony at 800 Michigan Avenue in downtown La Porte at 1:00 p.m. on Friday\, June 10th\, 2016. You Bou will host their Grand Open House\, Friday after the ceremony and Saturday from 10:00 to 4:00 p.m. where everyone is welcome for punch and cookies.</span></font></div>\n</div>\n</div>\n
LOCATION:You-nique Bou-tique 800 Michigan Avenue La Porte
UID:e.1949.2552
SEQUENCE:3
DTSTAMP:20260426T035830Z
URL:https://members.laportepartnership.com/events/details/you-nique-bou-tique-ribbon-cutting-06-10-2016-2552
END:VEVENT

END:VCALENDAR
