BEGIN:VCALENDAR
VERSION:2.0
PRODID:-//ChamberMaster//Event Calendar 2.0//EN
METHOD:PUBLISH
X-PUBLISHED-TTL:P3D
REFRESH-INTERVAL:P3D
CALSCALE:GREGORIAN
BEGIN:VEVENT
DTSTART:20180215T233000Z
DTEND:20180216T013000Z
X-MICROSOFT-CDO-ALLDAYEVENT:FALSE
SUMMARY:Young Professionals Night- Belated Mardi Gras Celebration!
DESCRIPTION:The Chamber and the La Porte Jaycees (the official Junior Chamber for the La Porte Chamber) will present a Young Professionals Night in the basement of Dick's Bar\, 912 Lincolnway in Downtown La Porte. The event will take place on February 15 at 5:30 p.m. until 7:30 p.m.\n\n\n\nJoin us for casual networking and a discussion with Mary Foell and MaryJo Moncheski of the Purdue Extension. There is no fee to attend this event. This event will also have an activity to encourage discussion among attendees as well as a cash bar and some small Mardi Gras giveaways.\n\n\n\nThese Young Professional Events with the Chamber and Jaycees are planned to happen on a quarterly basis and give young professionals the chance to be engaged with the La Porte community and Chamber. There is no age limit to this event\, and we invite any and all business people to join us! Registration is encouraged\, and you may do so by clicking the link above or calling 219.362.3178.
X-ALT-DESC;FMTTYPE=text/html:<span style="color: rgb(69\, 69\, 69)\; font-family: Arial\, Helvetica\, sans-serif\; font-size: 13.3333px\;">The Chamber and the La Porte Jaycees (the official Junior Chamber for the La Porte Chamber) will present a Young Professionals Night in the basement of Dick&#39\;s Bar\, 912&nbsp\;Lincolnway&nbsp\;in Downtown La Porte. The event will take place on February 15 at 5:30 p.m. until 7:30 p.m.<br />\n<br />\nJoin us for casual networking and a discussion with Mary Foell and MaryJo Moncheski of the Purdue Extension. There is no fee to attend this event.&nbsp\;</span><span style="color: rgb(69\, 69\, 69)\; font-family: Arial\, Helvetica\, sans-serif\; font-size: 13.3333px\;">This event will also have an activity to encourage discussion among attendees as well as a cash bar and some small Mardi Gras giveaways.<br />\n<br />\nThese Young Professional Events with the Chamber and Jaycees are planned to happen on a quarterly basis and give young professionals the chance to be engaged with the La Porte&nbsp\;community and Chamber. There is no age limit to this event\, and we invite any and all business people to join us! Registration is encouraged\, and you may do so by clicking the link above or calling 219.362.3178.</span>
LOCATION:Dick's Bar (basement) 912 Lincolnway La Porte
UID:e.1949.3034
SEQUENCE:3
DTSTAMP:20260424T155034Z
URL:https://members.laportepartnership.com/events/details/young-professionals-night-belated-mardi-gras-celebration-3034
END:VEVENT

END:VCALENDAR
