BEGIN:VCALENDAR
VERSION:2.0
PRODID:-//ChamberMaster//Event Calendar 2.0//EN
METHOD:PUBLISH
X-PUBLISHED-TTL:P3D
REFRESH-INTERVAL:P3D
CALSCALE:GREGORIAN
BEGIN:VEVENT
DTSTART;VALUE=DATE:20171006
DTEND;VALUE=DATE:20171009
TRANSP:TRANSPARENT
X-MICROSOFT-CDO-ALLDAYEVENT:TRUE
SUMMARY:Zombie Prom- La Porte Little Theatre
DESCRIPTION:The La Porte Little Theatre Club presents Zombie Prom! Show dates include October 6\, 7\, and 8. This is an exciting 1950's musical directed by Matt Robinson and starring Grace Tarnow\, Geo Tapia\, Katy & Tim Gartland and 30 more! Visit www.laportelittletreatreclub.com for more information.
X-ALT-DESC;FMTTYPE=text/html:The La Porte Little Theatre Club presents Zombie Prom! Show dates include October 6\, 7\, and 8. This is an exciting 1950&#39\;s musical directed by Matt Robinson and starring Grace Tarnow\, Geo Tapia\, Katy &amp\; Tim Gartland and 30 more! Visit www.laportelittletreatreclub.com for more information.
LOCATION:The La Porte Little Theatre 218 A Street
UID:e.1949.2898
SEQUENCE:3
DTSTAMP:20260424T230734Z
URL:https://members.laportepartnership.com/events/details/zombie-prom-la-porte-little-theatre-2898
END:VEVENT

END:VCALENDAR
